Package: tomoda Version: 1.19.0 Command: /Library/Frameworks/R.framework/Resources/bin/R CMD INSTALL tomoda StartedAt: 2025-07-01 15:43:16 -0400 (Tue, 01 Jul 2025) EndedAt: 2025-07-01 15:43:47 -0400 (Tue, 01 Jul 2025) EllapsedTime: 30.4 seconds RetCode: 0 Status: OK