Package: tomoda Version: 1.19.0 Command: /Library/Frameworks/R.framework/Resources/bin/R CMD check --install=check:tomoda.install-out.txt --library=/Library/Frameworks/R.framework/Resources/library --no-vignettes --timings tomoda_1.19.0.tar.gz StartedAt: 2025-07-02 00:11:45 -0400 (Wed, 02 Jul 2025) EndedAt: 2025-07-02 00:18:20 -0400 (Wed, 02 Jul 2025) EllapsedTime: 394.4 seconds RetCode: 0 Status: OK CheckDir: tomoda.Rcheck Warnings: 0