Package: tomoda Version: 1.19.0 Command: /Library/Frameworks/R.framework/Resources/bin/R CMD build --keep-empty-dirs --no-resave-data tomoda StartedAt: 2025-07-01 18:51:07 -0400 (Tue, 01 Jul 2025) EndedAt: 2025-07-01 18:52:34 -0400 (Tue, 01 Jul 2025) EllapsedTime: 86.9 seconds RetCode: 0 Status: OK PackageFile: tomoda_1.19.0.tar.gz PackageFileSize: 2.905 MiB