Package: tomoda Version: 1.19.0 Command: rm -rf tomoda.buildbin-libdir && mkdir tomoda.buildbin-libdir && /Users/biocbuild/BBS/utils/build-universal.sh tomoda_1.19.0.tar.gz /Library/Frameworks/R.framework/Resources/bin/R tomoda.buildbin-libdir StartedAt: 2025-07-02 01:24:39 -0400 (Wed, 02 Jul 2025) EndedAt: 2025-07-02 01:25:14 -0400 (Wed, 02 Jul 2025) EllapsedTime: 34.8 seconds RetCode: 0 Status: OK PackageFile: tomoda_1.19.0.tgz PackageFileSize: 2.968 MiB