Package: timescape Version: 1.33.0 Command: /home/biocbuild/R/R/bin/R CMD INSTALL timescape StartedAt: 2025-07-21 20:29:44 -0000 (Mon, 21 Jul 2025) EndedAt: 2025-07-21 20:30:03 -0000 (Mon, 21 Jul 2025) EllapsedTime: 19.0 seconds RetCode: 0 Status: OK