Package: timescape Version: 1.33.0 Command: /Library/Frameworks/R.framework/Resources/bin/R CMD check --install=check:timescape.install-out.txt --library=/Library/Frameworks/R.framework/Resources/library --no-vignettes --timings timescape_1.33.0.tar.gz StartedAt: 2025-06-29 23:52:21 -0400 (Sun, 29 Jun 2025) EndedAt: 2025-06-29 23:52:47 -0400 (Sun, 29 Jun 2025) EllapsedTime: 26.3 seconds RetCode: 0 Status: WARNINGS CheckDir: timescape.Rcheck Warnings: 1