Package: timescape Version: 1.33.0 Command: /Library/Frameworks/R.framework/Resources/bin/R CMD INSTALL timescape StartedAt: 2025-07-20 15:05:27 -0400 (Sun, 20 Jul 2025) EndedAt: 2025-07-20 15:05:32 -0400 (Sun, 20 Jul 2025) EllapsedTime: 5.1 seconds RetCode: 0 Status: OK