Package: timescape Version: 1.33.0 Command: /Library/Frameworks/R.framework/Resources/bin/R CMD build --keep-empty-dirs --no-resave-data timescape StartedAt: 2025-07-20 17:49:10 -0400 (Sun, 20 Jul 2025) EndedAt: 2025-07-20 17:49:13 -0400 (Sun, 20 Jul 2025) EllapsedTime: 3.0 seconds RetCode: 0 Status: OK PackageFile: timescape_1.33.0.tar.gz PackageFileSize: 672.4 KiB