Package: timeOmics Version: 1.21.0 Command: F:\biocbuild\bbs-3.22-bioc\R\bin\R.exe CMD check --no-multiarch --install=check:timeOmics.install-out.txt --library=F:\biocbuild\bbs-3.22-bioc\R\library --no-vignettes --timings timeOmics_1.21.0.tar.gz StartedAt: 2025-07-18 07:29:13 -0400 (Fri, 18 Jul 2025) EndedAt: 2025-07-18 07:32:36 -0400 (Fri, 18 Jul 2025) EllapsedTime: 203.4 seconds RetCode: 0 Status: WARNINGS CheckDir: timeOmics.Rcheck Warnings: 2