Package: tilingArray Version: 1.87.0 Command: /home/biocbuild/R/R/bin/R CMD INSTALL tilingArray StartedAt: 2025-10-06 21:15:39 -0000 (Mon, 06 Oct 2025) EndedAt: 2025-10-06 21:16:12 -0000 (Mon, 06 Oct 2025) EllapsedTime: 33.0 seconds RetCode: 0 Status: OK