Package: tilingArray Version: 1.87.0 Command: /home/biocbuild/R/R/bin/R CMD build --keep-empty-dirs --no-resave-data tilingArray StartedAt: 2025-10-07 03:32:55 -0000 (Tue, 07 Oct 2025) EndedAt: 2025-10-07 03:33:42 -0000 (Tue, 07 Oct 2025) EllapsedTime: 47.0 seconds RetCode: 0 Status: OK PackageFile: tilingArray_1.87.0.tar.gz PackageFileSize: 3.46 MiB