Package: tigre Version: 1.63.0 Command: /home/biocbuild/R/R/bin/R CMD INSTALL tigre StartedAt: 2025-07-10 21:34:52 -0000 (Thu, 10 Jul 2025) EndedAt: 2025-07-10 21:35:21 -0000 (Thu, 10 Jul 2025) EllapsedTime: 28.7 seconds RetCode: 0 Status: OK