Package: tigre Version: 1.63.0 Command: /home/biocbuild/R/R/bin/R CMD build --keep-empty-dirs --no-resave-data tigre StartedAt: 2025-07-11 04:34:19 -0000 (Fri, 11 Jul 2025) EndedAt: 2025-07-11 04:37:51 -0000 (Fri, 11 Jul 2025) EllapsedTime: 211.2 seconds RetCode: 0 Status: OK PackageFile: tigre_1.63.0.tar.gz PackageFileSize: 307.4 KiB