Package: tigre Version: 1.63.0 Command: F:\biocbuild\bbs-3.22-bioc\R\bin\R.exe CMD INSTALL tigre StartedAt: 2025-07-11 15:47:08 -0400 (Fri, 11 Jul 2025) EndedAt: 2025-07-11 15:48:15 -0400 (Fri, 11 Jul 2025) EllapsedTime: 67.8 seconds RetCode: 0 Status: OK