Package: tigre Version: 1.63.0 Command: F:\biocbuild\bbs-3.22-bioc\R\bin\R.exe CMD check --no-multiarch --install=check:tigre.install-out.txt --library=F:\biocbuild\bbs-3.22-bioc\R\library --no-vignettes --timings tigre_1.63.0.tar.gz StartedAt: 2025-07-12 07:22:05 -0400 (Sat, 12 Jul 2025) EndedAt: 2025-07-12 07:24:57 -0400 (Sat, 12 Jul 2025) EllapsedTime: 171.4 seconds RetCode: 0 Status: OK CheckDir: tigre.Rcheck Warnings: 0