Package: tigre Version: 1.63.0 Command: chmod a+r tigre -R && F:\biocbuild\bbs-3.22-bioc\R\bin\R.exe CMD build --keep-empty-dirs --no-resave-data tigre StartedAt: 2025-07-11 22:33:06 -0400 (Fri, 11 Jul 2025) EndedAt: 2025-07-11 22:36:25 -0400 (Fri, 11 Jul 2025) EllapsedTime: 199.3 seconds RetCode: 0 Status: OK PackageFile: tigre_1.63.0.tar.gz PackageFileSize: 317.5 KiB