Package: tigre Version: 1.63.0 Command: /home/biocbuild/bbs-3.22-bioc/R/bin/R CMD INSTALL tigre StartedAt: 2025-07-10 15:35:10 -0400 (Thu, 10 Jul 2025) EndedAt: 2025-07-10 15:35:29 -0400 (Thu, 10 Jul 2025) EllapsedTime: 19.6 seconds RetCode: 0 Status: OK