Package: tigre Version: 1.63.0 Command: /home/biocbuild/bbs-3.22-bioc/R/bin/R CMD check --install=check:tigre.install-out.txt --library=/home/biocbuild/bbs-3.22-bioc/R/site-library --timings tigre_1.63.0.tar.gz StartedAt: 2025-07-12 03:13:59 -0400 (Sat, 12 Jul 2025) EndedAt: 2025-07-12 03:19:00 -0400 (Sat, 12 Jul 2025) EllapsedTime: 300.3 seconds RetCode: 0 Status: OK CheckDir: tigre.Rcheck Warnings: 0