Package: tigre Version: 1.63.0 Command: /home/biocbuild/bbs-3.22-bioc/R/bin/R CMD build --keep-empty-dirs --no-resave-data --md5 tigre StartedAt: 2025-07-10 19:43:16 -0400 (Thu, 10 Jul 2025) EndedAt: 2025-07-10 19:46:21 -0400 (Thu, 10 Jul 2025) EllapsedTime: 185.3 seconds RetCode: 0 Status: OK PackageFile: tigre_1.63.0.tar.gz PackageFileSize: 318.1 KiB