Package: tigre Version: 1.63.0 Command: /Library/Frameworks/R.framework/Resources/bin/R CMD check --install=check:tigre.install-out.txt --library=/Library/Frameworks/R.framework/Resources/library --no-vignettes --timings tigre_1.63.0.tar.gz StartedAt: 2025-07-23 00:16:58 -0400 (Wed, 23 Jul 2025) EndedAt: 2025-07-23 00:19:33 -0400 (Wed, 23 Jul 2025) EllapsedTime: 154.9 seconds RetCode: 0 Status: OK CheckDir: tigre.Rcheck Warnings: 0