Package: tigre Version: 1.63.0 Command: /Library/Frameworks/R.framework/Resources/bin/R CMD build --keep-empty-dirs --no-resave-data tigre StartedAt: 2025-07-21 18:41:21 -0400 (Mon, 21 Jul 2025) EndedAt: 2025-07-21 18:43:46 -0400 (Mon, 21 Jul 2025) EllapsedTime: 144.5 seconds RetCode: 0 Status: OK PackageFile: tigre_1.63.0.tar.gz PackageFileSize: 315.7 KiB