Package: tigre Version: 1.63.0 Command: rm -rf tigre.buildbin-libdir && mkdir tigre.buildbin-libdir && /Users/biocbuild/BBS/utils/build-universal.sh tigre_1.63.0.tar.gz /Library/Frameworks/R.framework/Resources/bin/R tigre.buildbin-libdir StartedAt: 2025-07-22 01:29:17 -0400 (Tue, 22 Jul 2025) EndedAt: 2025-07-22 01:29:50 -0400 (Tue, 22 Jul 2025) EllapsedTime: 32.2 seconds RetCode: 0 Status: OK PackageFile: tigre_1.63.0.tgz PackageFileSize: 975 KiB