Package: tidyomics Version: 1.5.0 Command: /home/biocbuild/R/R/bin/R CMD INSTALL tidyomics StartedAt: 2025-06-26 20:51:48 -0000 (Thu, 26 Jun 2025) EndedAt: 2025-06-26 20:52:32 -0000 (Thu, 26 Jun 2025) EllapsedTime: 44.2 seconds RetCode: 0 Status: OK