Package: tidyomics Version: 1.5.0 Command: F:\biocbuild\bbs-3.22-bioc\R\bin\R.exe CMD INSTALL tidyomics StartedAt: 2025-06-30 16:42:12 -0400 (Mon, 30 Jun 2025) EndedAt: 2025-06-30 16:43:00 -0400 (Mon, 30 Jun 2025) EllapsedTime: 47.5 seconds RetCode: 0 Status: OK