Package: tidyomics Version: 1.5.0 Command: F:\biocbuild\bbs-3.22-bioc\R\bin\R.exe CMD check --no-multiarch --install=check:tidyomics.install-out.txt --library=F:\biocbuild\bbs-3.22-bioc\R\library --no-vignettes --timings tidyomics_1.5.0.tar.gz StartedAt: 2025-06-30 07:14:09 -0400 (Mon, 30 Jun 2025) EndedAt: 2025-06-30 07:18:30 -0400 (Mon, 30 Jun 2025) EllapsedTime: 261.1 seconds RetCode: 0 Status: WARNINGS CheckDir: tidyomics.Rcheck Warnings: 1