Package: tidyomics Version: 1.5.0 Command: rm -rf tidyomics.buildbin-libdir && mkdir tidyomics.buildbin-libdir && F:\biocbuild\bbs-3.22-bioc\R\bin\R.exe CMD INSTALL --build --library=tidyomics.buildbin-libdir tidyomics_1.5.0.tar.gz StartedAt: 2025-06-30 09:56:36 -0400 (Mon, 30 Jun 2025) EndedAt: 2025-06-30 09:57:35 -0400 (Mon, 30 Jun 2025) EllapsedTime: 59.3 seconds RetCode: 0 Status: OK PackageFile: tidyomics_1.5.0.zip PackageFileSize: 76.91 KiB