Package: tidyomics Version: 1.5.0 Command: /Library/Frameworks/R.framework/Resources/bin/R CMD INSTALL tidyomics StartedAt: 2025-07-15 15:43:47 -0400 (Tue, 15 Jul 2025) EndedAt: 2025-07-15 15:44:36 -0400 (Tue, 15 Jul 2025) EllapsedTime: 48.9 seconds RetCode: 0 Status: OK