Package: tidyomics Version: 1.5.0 Command: /Library/Frameworks/R.framework/Resources/bin/R CMD check --install=check:tidyomics.install-out.txt --library=/Library/Frameworks/R.framework/Resources/library --no-vignettes --timings tidyomics_1.5.0.tar.gz StartedAt: 2025-06-29 21:47:14 -0400 (Sun, 29 Jun 2025) EndedAt: 2025-06-29 21:48:39 -0400 (Sun, 29 Jun 2025) EllapsedTime: 86.0 seconds RetCode: 0 Status: WARNINGS CheckDir: tidyomics.Rcheck Warnings: 1