Package: tidyomics Version: 1.5.0 Command: rm -rf tidyomics.buildbin-libdir && mkdir tidyomics.buildbin-libdir && /Users/biocbuild/BBS/utils/build-universal.sh tidyomics_1.5.0.tar.gz /Library/Frameworks/R.framework/Resources/bin/R tidyomics.buildbin-libdir StartedAt: 2025-06-29 22:36:48 -0400 (Sun, 29 Jun 2025) EndedAt: 2025-06-29 22:37:04 -0400 (Sun, 29 Jun 2025) EllapsedTime: 16.4 seconds RetCode: 0 Status: OK PackageFile: tidyomics_1.5.0.tgz PackageFileSize: 73.41 KiB