Package: tidySummarizedExperiment Version: 1.19.0 Command: F:\biocbuild\bbs-3.22-bioc\R\bin\R.exe CMD INSTALL tidySummarizedExperiment StartedAt: 2025-06-29 16:14:11 -0400 (Sun, 29 Jun 2025) EndedAt: 2025-06-29 16:19:39 -0400 (Sun, 29 Jun 2025) EllapsedTime: 327.7 seconds RetCode: 0 Status: OK