Package: tidySummarizedExperiment Version: 1.19.0 Command: chmod a+r tidySummarizedExperiment -R && F:\biocbuild\bbs-3.22-bioc\R\bin\R.exe CMD build --keep-empty-dirs --no-resave-data tidySummarizedExperiment StartedAt: 2025-06-29 22:32:29 -0400 (Sun, 29 Jun 2025) EndedAt: 2025-06-29 22:33:30 -0400 (Sun, 29 Jun 2025) EllapsedTime: 61.2 seconds RetCode: 0 Status: OK PackageFile: tidySummarizedExperiment_1.19.0.tar.gz PackageFileSize: 331 KiB