Package: tidySummarizedExperiment Version: 1.19.0 Command: rm -rf tidySummarizedExperiment.buildbin-libdir && mkdir tidySummarizedExperiment.buildbin-libdir && F:\biocbuild\bbs-3.22-bioc\R\bin\R.exe CMD INSTALL --build --library=tidySummarizedExperiment.buildbin-libdir tidySummarizedExperiment_1.19.0.tar.gz StartedAt: 2025-06-30 09:56:47 -0400 (Mon, 30 Jun 2025) EndedAt: 2025-06-30 09:59:36 -0400 (Mon, 30 Jun 2025) EllapsedTime: 169.2 seconds RetCode: 0 Status: OK PackageFile: tidySummarizedExperiment_1.19.0.zip PackageFileSize: 654 KiB