Package: terraTCGAdata Version: 1.13.0 Command: /home/biocbuild/R/R/bin/R CMD INSTALL terraTCGAdata StartedAt: 2025-07-17 21:00:23 -0000 (Thu, 17 Jul 2025) EndedAt: 2025-07-17 21:00:56 -0000 (Thu, 17 Jul 2025) EllapsedTime: 33.3 seconds RetCode: 0 Status: OK