Package: terraTCGAdata Version: 1.13.0 Command: /home/biocbuild/R/R/bin/R CMD build --keep-empty-dirs --no-resave-data terraTCGAdata StartedAt: 2025-07-18 03:37:43 -0000 (Fri, 18 Jul 2025) EndedAt: 2025-07-18 03:38:27 -0000 (Fri, 18 Jul 2025) EllapsedTime: 44.0 seconds RetCode: 0 Status: OK PackageFile: terraTCGAdata_1.13.0.tar.gz PackageFileSize: 260.4 KiB