Package: terraTCGAdata Version: 1.13.0 Command: /Library/Frameworks/R.framework/Resources/bin/R CMD INSTALL terraTCGAdata StartedAt: 2025-07-14 15:45:41 -0400 (Mon, 14 Jul 2025) EndedAt: 2025-07-14 15:46:16 -0400 (Mon, 14 Jul 2025) EllapsedTime: 35.1 seconds RetCode: 0 Status: OK