Package: terraTCGAdata Version: 1.13.0 Command: /Library/Frameworks/R.framework/Resources/bin/R CMD build --keep-empty-dirs --no-resave-data terraTCGAdata StartedAt: 2025-07-14 18:47:58 -0400 (Mon, 14 Jul 2025) EndedAt: 2025-07-14 18:48:38 -0400 (Mon, 14 Jul 2025) EllapsedTime: 39.9 seconds RetCode: 0 Status: OK PackageFile: terraTCGAdata_1.13.0.tar.gz PackageFileSize: 234.1 KiB