Package: ternarynet Version: 1.53.0 Command: F:\biocbuild\bbs-3.22-bioc\R\bin\R.exe CMD check --no-multiarch --install=check:ternarynet.install-out.txt --library=F:\biocbuild\bbs-3.22-bioc\R\library --no-vignettes --timings ternarynet_1.53.0.tar.gz StartedAt: 2025-07-18 07:24:15 -0400 (Fri, 18 Jul 2025) EndedAt: 2025-07-18 07:26:00 -0400 (Fri, 18 Jul 2025) EllapsedTime: 104.9 seconds RetCode: 0 Status: OK CheckDir: ternarynet.Rcheck Warnings: 0