Package: terapadog Version: 1.1.0 Command: /home/biocbuild/bbs-3.22-bioc/R/bin/R CMD INSTALL terapadog StartedAt: 2025-10-03 15:25:03 -0400 (Fri, 03 Oct 2025) EndedAt: 2025-10-03 15:25:33 -0400 (Fri, 03 Oct 2025) EllapsedTime: 30.0 seconds RetCode: 0 Status: OK