Package: terapadog Version: 1.1.0 Command: /home/biocbuild/bbs-3.22-bioc/R/bin/R CMD build --keep-empty-dirs --no-resave-data --md5 terapadog StartedAt: 2025-10-05 20:33:03 -0400 (Sun, 05 Oct 2025) EndedAt: 2025-10-05 20:34:30 -0400 (Sun, 05 Oct 2025) EllapsedTime: 87.1 seconds RetCode: 0 Status: OK PackageFile: terapadog_1.1.0.tar.gz PackageFileSize: 1.496 MiB