Package: terapadog Version: 1.1.0 Command: /Library/Frameworks/R.framework/Resources/bin/R CMD build --keep-empty-dirs --no-resave-data terapadog StartedAt: 2025-07-01 18:49:06 -0400 (Tue, 01 Jul 2025) EndedAt: 2025-07-01 18:50:40 -0400 (Tue, 01 Jul 2025) EllapsedTime: 93.8 seconds RetCode: 0 Status: OK PackageFile: terapadog_1.1.0.tar.gz PackageFileSize: 1.495 MiB