Package: terapadog Version: 1.1.0 Command: rm -rf terapadog.buildbin-libdir && mkdir terapadog.buildbin-libdir && /Users/biocbuild/BBS/utils/build-universal.sh terapadog_1.1.0.tar.gz /Library/Frameworks/R.framework/Resources/bin/R terapadog.buildbin-libdir StartedAt: 2025-07-02 01:24:03 -0400 (Wed, 02 Jul 2025) EndedAt: 2025-07-02 01:24:48 -0400 (Wed, 02 Jul 2025) EllapsedTime: 45.3 seconds RetCode: 0 Status: OK PackageFile: terapadog_1.1.0.tgz PackageFileSize: 1.543 MiB