Package: tenXplore Version: 1.31.0 Command: /home/biocbuild/R/R/bin/R CMD INSTALL tenXplore StartedAt: 2025-07-24 21:44:36 -0000 (Thu, 24 Jul 2025) EndedAt: 2025-07-24 21:45:18 -0000 (Thu, 24 Jul 2025) EllapsedTime: 41.4 seconds RetCode: 0 Status: OK