Package: tenXplore Version: 1.31.0 Command: /home/biocbuild/R/R/bin/R CMD build --keep-empty-dirs --no-resave-data tenXplore StartedAt: 2025-07-25 04:21:43 -0000 (Fri, 25 Jul 2025) EndedAt: 2025-07-25 04:22:41 -0000 (Fri, 25 Jul 2025) EllapsedTime: 58.0 seconds RetCode: 0 Status: OK PackageFile: tenXplore_1.31.0.tar.gz PackageFileSize: 2.457 MiB