Package: tenXplore Version: 1.31.0 Command: F:\biocbuild\bbs-3.22-bioc\R\bin\R.exe CMD check --no-multiarch --install=check:tenXplore.install-out.txt --library=F:\biocbuild\bbs-3.22-bioc\R\library --no-vignettes --timings tenXplore_1.31.0.tar.gz StartedAt: 2025-07-19 07:33:28 -0400 (Sat, 19 Jul 2025) EndedAt: 2025-07-19 07:38:21 -0400 (Sat, 19 Jul 2025) EllapsedTime: 293.2 seconds RetCode: 0 Status: OK CheckDir: tenXplore.Rcheck Warnings: 0