Package: tenXplore Version: 1.31.0 Command: /home/biocbuild/bbs-3.22-bioc/R/bin/R CMD INSTALL tenXplore StartedAt: 2025-07-11 15:33:09 -0400 (Fri, 11 Jul 2025) EndedAt: 2025-07-11 15:33:39 -0400 (Fri, 11 Jul 2025) EllapsedTime: 30.1 seconds RetCode: 0 Status: OK