Package: tenXplore Version: 1.31.0 Command: /home/biocbuild/bbs-3.22-bioc/R/bin/R CMD build --keep-empty-dirs --no-resave-data --md5 tenXplore StartedAt: 2025-07-11 19:26:43 -0400 (Fri, 11 Jul 2025) EndedAt: 2025-07-11 19:27:29 -0400 (Fri, 11 Jul 2025) EllapsedTime: 46.3 seconds RetCode: 0 Status: OK PackageFile: tenXplore_1.31.0.tar.gz PackageFileSize: 2.434 MiB