Package: tenXplore Version: 1.31.0 Command: /Library/Frameworks/R.framework/Resources/bin/R CMD check --install=check:tenXplore.install-out.txt --library=/Library/Frameworks/R.framework/Resources/library --no-vignettes --timings tenXplore_1.31.0.tar.gz StartedAt: 2025-07-23 00:13:45 -0400 (Wed, 23 Jul 2025) EndedAt: 2025-07-23 00:18:16 -0400 (Wed, 23 Jul 2025) EllapsedTime: 271.0 seconds RetCode: 0 Status: OK CheckDir: tenXplore.Rcheck Warnings: 0