Package: tanggle Version: 1.15.0 Command: /home/biocbuild/R/R/bin/R CMD INSTALL tanggle StartedAt: 2025-06-30 20:25:22 -0000 (Mon, 30 Jun 2025) EndedAt: 2025-06-30 20:25:54 -0000 (Mon, 30 Jun 2025) EllapsedTime: 32.6 seconds RetCode: 0 Status: OK