Package: tanggle Version: 1.15.0 Command: /home/biocbuild/R/R/bin/R CMD build --keep-empty-dirs --no-resave-data tanggle StartedAt: 2025-06-27 03:10:58 -0000 (Fri, 27 Jun 2025) EndedAt: 2025-06-27 03:11:28 -0000 (Fri, 27 Jun 2025) EllapsedTime: 30.0 seconds RetCode: 0 Status: OK PackageFile: tanggle_1.15.0.tar.gz PackageFileSize: 1.414 MiB