Package: tanggle Version: 1.15.2 Command: F:\biocbuild\bbs-3.22-bioc\R\bin\R.exe CMD INSTALL tanggle StartedAt: 2025-07-11 15:34:16 -0400 (Fri, 11 Jul 2025) EndedAt: 2025-07-11 15:34:26 -0400 (Fri, 11 Jul 2025) EllapsedTime: 10.8 seconds RetCode: 0 Status: OK